BEGIN:VCALENDAR
PRODID:-//eluceo/ical//2.0/EN
VERSION:2.0
CALSCALE:GREGORIAN
BEGIN:VEVENT
UID:97b048e85d6a794f1e45c919b562d1c7
DTSTAMP:20260420T131157Z
SUMMARY:Grænland
DESCRIPTION:
URL:https://seltjarnarnes.rotary1360.is/is/agenda/show/161
DTSTART;TZID=Iceland:20180914T120000
DTEND;TZID=Iceland:20180914T130000
LOCATION:Félagsheimilið Seltjarnarnesi\nSuðurströnd 2\n170 Seltjarnarne
 s\n
CATEGORIES:Rotary
END:VEVENT
BEGIN:VTIMEZONE
TZID:Iceland
BEGIN:STANDARD
DTSTART:20180914T120000
TZNAME:GMT
TZOFFSETTO:+0000
TZOFFSETFROM:+0000
END:STANDARD
END:VTIMEZONE
END:VCALENDAR
