BEGIN:VCALENDAR
PRODID:-//eluceo/ical//2.0/EN
VERSION:2.0
CALSCALE:GREGORIAN
BEGIN:VEVENT
UID:b68968f60005e847a88392ae14d0c1b8
DTSTAMP:20260422T101533Z
SUMMARY:Spænska veikin 1918 og nútíminn
DESCRIPTION:
URL:https://seltjarnarnes.rotary1360.is/is/agenda/show/2186
DTSTART;TZID=Iceland:20201119T180000
DTEND;TZID=Iceland:20201119T190000
LOCATION:Félagsheimili Seltjarnarness\nSuðurströnd 8\n170 Seltjarnarnes\
 n
CATEGORIES:Rotary
END:VEVENT
BEGIN:VTIMEZONE
TZID:Iceland
BEGIN:STANDARD
DTSTART:20201119T180000
TZNAME:GMT
TZOFFSETTO:+0000
TZOFFSETFROM:+0000
END:STANDARD
END:VTIMEZONE
END:VCALENDAR
