BEGIN:VCALENDAR
PRODID:-//eluceo/ical//2.0/EN
VERSION:2.0
CALSCALE:GREGORIAN
BEGIN:VEVENT
UID:3d8c7024a46bc20f9e05474096756406
DTSTAMP:20260420T130623Z
SUMMARY:Hvernig má nýta hönnunarhugsun til samfélagslegrar nýsköpunar
  í bókasöfnum
DESCRIPTION:
URL:https://seltjarnarnes.rotary1360.is/is/agenda/show/2457
DTSTART;TZID=Iceland:20210204T180000
DTEND;TZID=Iceland:20210204T190000
LOCATION:Safnaðarheimili Seltjarnarneskirkju
CATEGORIES:Rotary
END:VEVENT
BEGIN:VTIMEZONE
TZID:Iceland
BEGIN:STANDARD
DTSTART:20210204T180000
TZNAME:GMT
TZOFFSETTO:+0000
TZOFFSETFROM:+0000
END:STANDARD
END:VTIMEZONE
END:VCALENDAR
