BEGIN:VCALENDAR
PRODID:-//eluceo/ical//2.0/EN
VERSION:2.0
CALSCALE:GREGORIAN
BEGIN:VEVENT
UID:8ac384280d0110da6e2b89481e85daff
DTSTAMP:20260420T130806Z
SUMMARY:Rótarýfundur á vegum stjórnar
DESCRIPTION:Vefsíða: http://grandirestaurant.is\nFyrirlesari(ar): Fundur 
 er í höndum stjórnar Rótarýklúbbs Seltjarnarness
URL:https://seltjarnarnes.rotary1360.is/is/agenda/show/6885
DTSTART;TZID=Iceland:20251205T121000
DTEND;TZID=Iceland:20251205T131000
LOCATION:Grandi restaurant and bar\, Seljavegur 2\, 101 Reykjavík\, Íslan
 d
CATEGORIES:Rotary
END:VEVENT
BEGIN:VTIMEZONE
TZID:Iceland
BEGIN:STANDARD
DTSTART:20251205T121000
TZNAME:GMT
TZOFFSETTO:+0000
TZOFFSETFROM:+0000
END:STANDARD
END:VTIMEZONE
END:VCALENDAR
